Package: randPack Version: 1.48.0 Command: rm -rf randPack.buildbin-libdir && mkdir randPack.buildbin-libdir && F:\biocbuild\bbs-3.18-bioc\R\bin\R.exe CMD INSTALL --build --library=randPack.buildbin-libdir randPack_1.48.0.tar.gz StartedAt: 2024-04-16 07:30:13 -0400 (Tue, 16 Apr 2024) EndedAt: 2024-04-16 07:30:22 -0400 (Tue, 16 Apr 2024) EllapsedTime: 8.4 seconds RetCode: 0 Status: OK PackageFile: randPack_1.48.0.zip PackageFileSize: 350.8 KiB