Package: randPack Version: 1.48.0 Command: /Library/Frameworks/R.framework/Resources/bin/R CMD check --install=check:randPack.install-out.txt --library=/Library/Frameworks/R.framework/Resources/library --no-vignettes --timings randPack_1.48.0.tar.gz StartedAt: 2024-04-16 07:27:37 -0400 (Tue, 16 Apr 2024) EndedAt: 2024-04-16 07:28:34 -0400 (Tue, 16 Apr 2024) EllapsedTime: 57.0 seconds RetCode: 0 Status: OK CheckDir: randPack.Rcheck Warnings: 0