Package: ramr Version: 1.10.0 Command: /home/biocbuild/bbs-3.18-bioc/R/bin/R CMD build --keep-empty-dirs --no-resave-data ramr StartedAt: 2024-04-15 18:42:33 -0400 (Mon, 15 Apr 2024) EndedAt: 2024-04-15 18:43:52 -0400 (Mon, 15 Apr 2024) EllapsedTime: 79.4 seconds RetCode: 0 Status: OK PackageFile: ramr_1.10.0.tar.gz PackageFileSize: 2.528 MiB