Package: ramr Version: 1.10.0 Command: /Library/Frameworks/R.framework/Resources/bin/R CMD check --install=check:ramr.install-out.txt --library=/Library/Frameworks/R.framework/Resources/library --no-vignettes --timings ramr_1.10.0.tar.gz StartedAt: 2024-03-03 22:48:43 -0500 (Sun, 03 Mar 2024) EndedAt: 2024-03-03 22:51:56 -0500 (Sun, 03 Mar 2024) EllapsedTime: 193.9 seconds RetCode: 0 Status: OK CheckDir: ramr.Rcheck Warnings: 0