Package: ramr Version: 1.10.0 Command: rm -rf ramr.buildbin-libdir && mkdir ramr.buildbin-libdir && /Users/biocbuild/BBS/utils/build-universal.sh ramr_1.10.0.tar.gz /Library/Frameworks/R.framework/Resources/bin/R ramr.buildbin-libdir StartedAt: 2024-03-04 00:58:12 -0500 (Mon, 04 Mar 2024) EndedAt: 2024-03-04 00:58:32 -0500 (Mon, 04 Mar 2024) EllapsedTime: 20.6 seconds RetCode: 0 Status: OK PackageFile: ramr_1.10.0.tgz PackageFileSize: 2.586 MiB