Package: rain Version: 1.36.0 Command: rm -rf rain.buildbin-libdir && mkdir rain.buildbin-libdir && F:\biocbuild\bbs-3.18-bioc\R\bin\R.exe CMD INSTALL --build --library=rain.buildbin-libdir rain_1.36.0.tar.gz StartedAt: 2024-04-16 07:30:07 -0400 (Tue, 16 Apr 2024) EndedAt: 2024-04-16 07:30:18 -0400 (Tue, 16 Apr 2024) EllapsedTime: 11.1 seconds RetCode: 0 Status: OK PackageFile: rain_1.36.0.zip PackageFileSize: 635.6 KiB