Package: rain Version: 1.36.0 Command: /home/biocbuild/bbs-3.18-bioc/R/bin/R CMD check --install=check:rain.install-out.txt --library=/home/biocbuild/bbs-3.18-bioc/R/site-library --timings rain_1.36.0.tar.gz StartedAt: 2024-04-16 02:42:32 -0400 (Tue, 16 Apr 2024) EndedAt: 2024-04-16 02:43:54 -0400 (Tue, 16 Apr 2024) EllapsedTime: 82.6 seconds RetCode: 0 Status: OK CheckDir: rain.Rcheck Warnings: 0