Package: rain Version: 1.36.0 Command: /Library/Frameworks/R.framework/Resources/bin/R CMD build --keep-empty-dirs --no-resave-data rain StartedAt: 2024-04-15 21:06:42 -0400 (Mon, 15 Apr 2024) EndedAt: 2024-04-15 21:07:48 -0400 (Mon, 15 Apr 2024) EllapsedTime: 66.3 seconds RetCode: 0 Status: OK PackageFile: rain_1.36.0.tar.gz PackageFileSize: 604.2 KiB