Package: rTRMui Version: 1.40.0 Command: F:\biocbuild\bbs-3.18-bioc\R\bin\R.exe CMD check --no-multiarch --install=check:rTRMui.install-out.txt --library=F:\biocbuild\bbs-3.18-bioc\R\library --no-vignettes --timings rTRMui_1.40.0.tar.gz StartedAt: 2024-04-16 04:38:19 -0400 (Tue, 16 Apr 2024) EndedAt: 2024-04-16 04:43:24 -0400 (Tue, 16 Apr 2024) EllapsedTime: 304.3 seconds RetCode: 0 Status: OK CheckDir: rTRMui.Rcheck Warnings: 0