Package: rTRMui Version: 1.40.0 Command: rm -rf rTRMui.buildbin-libdir && mkdir rTRMui.buildbin-libdir && F:\biocbuild\bbs-3.18-bioc\R\bin\R.exe CMD INSTALL --build --library=rTRMui.buildbin-libdir rTRMui_1.40.0.tar.gz StartedAt: 2024-04-16 07:36:36 -0400 (Tue, 16 Apr 2024) EndedAt: 2024-04-16 07:37:43 -0400 (Tue, 16 Apr 2024) EllapsedTime: 67.1 seconds RetCode: 0 Status: OK PackageFile: rTRMui_1.40.0.zip PackageFileSize: 742.2 KiB