Package: rGenomeTracks Version: 1.8.0 Command: rm -rf rGenomeTracks.buildbin-libdir && mkdir rGenomeTracks.buildbin-libdir && /Users/biocbuild/BBS/utils/build-universal.sh rGenomeTracks_1.8.0.tar.gz /Library/Frameworks/R.framework/Resources/bin/R rGenomeTracks.buildbin-libdir StartedAt: 2024-03-04 00:59:32 -0500 (Mon, 04 Mar 2024) EndedAt: 2024-03-04 00:59:45 -0500 (Mon, 04 Mar 2024) EllapsedTime: 13.4 seconds RetCode: 0 Status: OK PackageFile: rGenomeTracks_1.8.0.tgz PackageFileSize: 3.402 MiB