Package: rGREAT Version: 2.4.0 Command: F:\biocbuild\bbs-3.18-bioc\R\bin\R.exe CMD INSTALL rGREAT StartedAt: 2024-04-15 16:11:37 -0400 (Mon, 15 Apr 2024) EndedAt: 2024-04-15 16:12:51 -0400 (Mon, 15 Apr 2024) EllapsedTime: 74.0 seconds RetCode: 0 Status: OK