Package: rGREAT Version: 2.4.0 Command: chmod a+r rGREAT -R && F:\biocbuild\bbs-3.18-bioc\R\bin\R.exe CMD build --keep-empty-dirs --no-resave-data rGREAT StartedAt: 2024-04-15 20:40:55 -0400 (Mon, 15 Apr 2024) EndedAt: 2024-04-15 20:45:53 -0400 (Mon, 15 Apr 2024) EllapsedTime: 297.9 seconds RetCode: 0 Status: OK PackageFile: rGREAT_2.4.0.tar.gz PackageFileSize: 4.275 MiB