Package: rGREAT Version: 2.4.0 Command: rm -rf rGREAT.buildbin-libdir && mkdir rGREAT.buildbin-libdir && F:\biocbuild\bbs-3.18-bioc\R\bin\R.exe CMD INSTALL --build --library=rGREAT.buildbin-libdir rGREAT_2.4.0.tar.gz StartedAt: 2024-04-16 07:32:57 -0400 (Tue, 16 Apr 2024) EndedAt: 2024-04-16 07:34:16 -0400 (Tue, 16 Apr 2024) EllapsedTime: 79.9 seconds RetCode: 0 Status: OK PackageFile: rGREAT_2.4.0.zip PackageFileSize: 5.253 MiB