Package: rGREAT Version: 2.4.0 Command: /Library/Frameworks/R.framework/Resources/bin/R CMD check --install=check:rGREAT.install-out.txt --library=/Library/Frameworks/R.framework/Resources/library --no-vignettes --timings rGREAT_2.4.0.tar.gz StartedAt: 2024-03-03 22:57:41 -0500 (Sun, 03 Mar 2024) EndedAt: 2024-03-03 23:03:53 -0500 (Sun, 03 Mar 2024) EllapsedTime: 373.0 seconds RetCode: 0 Status: OK CheckDir: rGREAT.Rcheck Warnings: 0