Package: rGADEM Version: 2.50.0 Command: /Library/Frameworks/R.framework/Resources/bin/R CMD INSTALL rGADEM StartedAt: 2024-03-03 15:18:21 -0500 (Sun, 03 Mar 2024) EndedAt: 2024-03-03 15:19:30 -0500 (Sun, 03 Mar 2024) EllapsedTime: 69.2 seconds RetCode: 0 Status: OK