Package: qvalue Version: 2.34.0 Command: /Library/Frameworks/R.framework/Resources/bin/R CMD build --keep-empty-dirs --no-resave-data qvalue StartedAt: 2024-03-03 17:55:06 -0500 (Sun, 03 Mar 2024) EndedAt: 2024-03-03 17:55:28 -0500 (Sun, 03 Mar 2024) EllapsedTime: 21.6 seconds RetCode: 0 Status: OK PackageFile: qvalue_2.34.0.tar.gz PackageFileSize: 2.645 MiB