Package: qvalue Version: 2.34.0 Command: rm -rf qvalue.buildbin-libdir && mkdir qvalue.buildbin-libdir && /Users/biocbuild/BBS/utils/build-universal.sh qvalue_2.34.0.tar.gz /Library/Frameworks/R.framework/Resources/bin/R qvalue.buildbin-libdir StartedAt: 2024-03-04 00:58:00 -0500 (Mon, 04 Mar 2024) EndedAt: 2024-03-04 00:58:09 -0500 (Mon, 04 Mar 2024) EllapsedTime: 9.0 seconds RetCode: 0 Status: OK PackageFile: qvalue_2.34.0.tgz PackageFileSize: 2.68 MiB