Package: quantsmooth Version: 1.68.0 Command: /Library/Frameworks/R.framework/Resources/bin/R CMD check --install=check:quantsmooth.install-out.txt --library=/Library/Frameworks/R.framework/Resources/library --no-vignettes --timings quantsmooth_1.68.0.tar.gz StartedAt: 2024-03-03 22:46:19 -0500 (Sun, 03 Mar 2024) EndedAt: 2024-03-03 22:47:21 -0500 (Sun, 03 Mar 2024) EllapsedTime: 62.1 seconds RetCode: 0 Status: OK CheckDir: quantsmooth.Rcheck Warnings: 0