Package: quantsmooth Version: 1.68.0 Command: /Library/Frameworks/R.framework/Resources/bin/R CMD build --keep-empty-dirs --no-resave-data quantsmooth StartedAt: 2024-03-03 17:54:53 -0500 (Sun, 03 Mar 2024) EndedAt: 2024-03-03 17:55:11 -0500 (Sun, 03 Mar 2024) EllapsedTime: 18.1 seconds RetCode: 0 Status: OK PackageFile: quantsmooth_1.68.0.tar.gz PackageFileSize: 338.1 KiB