Package: quantsmooth Version: 1.68.0 Command: rm -rf quantsmooth.buildbin-libdir && mkdir quantsmooth.buildbin-libdir && /Users/biocbuild/BBS/utils/build-universal.sh quantsmooth_1.68.0.tar.gz /Library/Frameworks/R.framework/Resources/bin/R quantsmooth.buildbin-libdir StartedAt: 2024-03-04 00:57:50 -0500 (Mon, 04 Mar 2024) EndedAt: 2024-03-04 00:58:01 -0500 (Mon, 04 Mar 2024) EllapsedTime: 11.2 seconds RetCode: 0 Status: OK PackageFile: quantsmooth_1.68.0.tgz PackageFileSize: 418.1 KiB