Package: quantiseqr Version: 1.10.0 Command: chmod a+r quantiseqr -R && F:\biocbuild\bbs-3.18-bioc\R\bin\R.exe CMD build --keep-empty-dirs --no-resave-data quantiseqr StartedAt: 2024-04-15 20:29:02 -0400 (Mon, 15 Apr 2024) EndedAt: 2024-04-15 20:35:39 -0400 (Mon, 15 Apr 2024) EllapsedTime: 397.0 seconds RetCode: 0 Status: OK PackageFile: quantiseqr_1.10.0.tar.gz PackageFileSize: 2.561 MiB