Package: qrqc Version: 1.56.0 Command: chmod a+r qrqc -R && F:\biocbuild\bbs-3.18-bioc\R\bin\R.exe CMD build --keep-empty-dirs --no-resave-data qrqc StartedAt: 2024-04-15 20:28:15 -0400 (Mon, 15 Apr 2024) EndedAt: 2024-04-15 20:28:19 -0400 (Mon, 15 Apr 2024) EllapsedTime: 4.0 seconds RetCode: 1 Status: ERROR PackageFile: None PackageFileSize: NA