Package: qrqc Version: 1.56.0 Command: /home/biocbuild/R/R-4.3.1/bin/R CMD INSTALL qrqc StartedAt: 2023-11-01 20:41:57 -0000 (Wed, 01 Nov 2023) EndedAt: 2023-11-01 20:42:00 -0000 (Wed, 01 Nov 2023) EllapsedTime: 3.4 seconds RetCode: 1 Status: ERROR