Package: qrqc Version: 1.56.0 Command: /home/biocbuild/R/R-4.3.1/bin/R CMD build --keep-empty-dirs --no-resave-data qrqc StartedAt: 2023-11-02 04:48:22 -0000 (Thu, 02 Nov 2023) EndedAt: 2023-11-02 04:48:24 -0000 (Thu, 02 Nov 2023) EllapsedTime: 2.0 seconds RetCode: 1 Status: ERROR PackageFile: None PackageFileSize: NA