Package: qpgraph Version: 2.36.0 Command: rm -rf qpgraph.buildbin-libdir && mkdir qpgraph.buildbin-libdir && /Users/biocbuild/BBS/utils/build-universal.sh qpgraph_2.36.0.tar.gz /Library/Frameworks/R.framework/Resources/bin/R qpgraph.buildbin-libdir StartedAt: 2024-04-16 12:28:34 -0400 (Tue, 16 Apr 2024) EndedAt: 2024-04-16 12:30:36 -0400 (Tue, 16 Apr 2024) EllapsedTime: 122.1 seconds RetCode: 0 Status: OK PackageFile: qpgraph_2.36.0.tgz PackageFileSize: 4.103 MiB