Package: qpgraph Version: 2.36.0 Command: /Library/Frameworks/R.framework/Resources/bin/R CMD INSTALL qpgraph StartedAt: 2024-03-03 15:19:15 -0500 (Sun, 03 Mar 2024) EndedAt: 2024-03-03 15:20:39 -0500 (Sun, 03 Mar 2024) EllapsedTime: 83.8 seconds RetCode: 0 Status: OK