Package: qpgraph Version: 2.36.0 Command: /Library/Frameworks/R.framework/Resources/bin/R CMD build --keep-empty-dirs --no-resave-data qpgraph StartedAt: 2024-03-03 17:54:10 -0500 (Sun, 03 Mar 2024) EndedAt: 2024-03-03 17:56:40 -0500 (Sun, 03 Mar 2024) EllapsedTime: 150.1 seconds RetCode: 0 Status: OK PackageFile: qpgraph_2.36.0.tar.gz PackageFileSize: 2.704 MiB