Package: qpgraph Version: 2.36.0 Command: /home/biocbuild/R/R-4.3.1/bin/R CMD build --keep-empty-dirs --no-resave-data qpgraph StartedAt: 2023-11-02 04:48:19 -0000 (Thu, 02 Nov 2023) EndedAt: 2023-11-02 04:54:04 -0000 (Thu, 02 Nov 2023) EllapsedTime: 344.4 seconds RetCode: 0 Status: OK PackageFile: qpgraph_2.36.0.tar.gz PackageFileSize: 2.646 MiB