Package: qpcrNorm Version: 1.60.0 Command: chmod a+r qpcrNorm -R && F:\biocbuild\bbs-3.18-bioc\R\bin\R.exe CMD build --keep-empty-dirs --no-resave-data qpcrNorm StartedAt: 2024-04-15 20:27:54 -0400 (Mon, 15 Apr 2024) EndedAt: 2024-04-15 20:28:06 -0400 (Mon, 15 Apr 2024) EllapsedTime: 12.0 seconds RetCode: 0 Status: OK PackageFile: qpcrNorm_1.60.0.tar.gz PackageFileSize: 477.3 KiB