Package: qmtools Version: 1.6.0 Command: rm -rf qmtools.buildbin-libdir && mkdir qmtools.buildbin-libdir && /Users/biocbuild/BBS/utils/build-universal.sh qmtools_1.6.0.tar.gz /Library/Frameworks/R.framework/Resources/bin/R qmtools.buildbin-libdir StartedAt: 2024-03-04 00:57:35 -0500 (Mon, 04 Mar 2024) EndedAt: 2024-03-04 00:58:12 -0500 (Mon, 04 Mar 2024) EllapsedTime: 36.2 seconds RetCode: 0 Status: OK PackageFile: qmtools_1.6.0.tgz PackageFileSize: 1.453 MiB