Package: qckitfastq Version: 1.18.0 Command: /Library/Frameworks/R.framework/Resources/bin/R CMD check --install=check:qckitfastq.install-out.txt --library=/Library/Frameworks/R.framework/Resources/library --no-vignettes --timings qckitfastq_1.18.0.tar.gz StartedAt: 2024-03-03 22:43:15 -0500 (Sun, 03 Mar 2024) EndedAt: 2024-03-03 22:44:45 -0500 (Sun, 03 Mar 2024) EllapsedTime: 90.3 seconds RetCode: 0 Status: OK CheckDir: qckitfastq.Rcheck Warnings: 0