Package: qckitfastq Version: 1.18.0 Command: rm -rf qckitfastq.buildbin-libdir && mkdir qckitfastq.buildbin-libdir && /Users/biocbuild/BBS/utils/build-universal.sh qckitfastq_1.18.0.tar.gz /Library/Frameworks/R.framework/Resources/bin/R qckitfastq.buildbin-libdir StartedAt: 2024-03-04 00:57:30 -0500 (Mon, 04 Mar 2024) EndedAt: 2024-03-04 00:58:02 -0500 (Mon, 04 Mar 2024) EllapsedTime: 32.5 seconds RetCode: 0 Status: OK PackageFile: qckitfastq_1.18.0.tgz PackageFileSize: 1.069 MiB