Package: qPLEXanalyzer Version: 1.20.0 Command: rm -rf qPLEXanalyzer.buildbin-libdir && mkdir qPLEXanalyzer.buildbin-libdir && F:\biocbuild\bbs-3.18-bioc\R\bin\R.exe CMD INSTALL --build --library=qPLEXanalyzer.buildbin-libdir qPLEXanalyzer_1.20.0.tar.gz StartedAt: 2024-04-16 07:29:14 -0400 (Tue, 16 Apr 2024) EndedAt: 2024-04-16 07:29:49 -0400 (Tue, 16 Apr 2024) EllapsedTime: 34.9 seconds RetCode: 0 Status: OK PackageFile: qPLEXanalyzer_1.20.0.zip PackageFileSize: 3.148 MiB