Package: qPLEXanalyzer Version: 1.20.0 Command: /home/biocbuild/R/R-4.3.1/bin/R CMD INSTALL qPLEXanalyzer StartedAt: 2023-11-01 20:24:36 -0000 (Wed, 01 Nov 2023) EndedAt: 2023-11-01 20:25:04 -0000 (Wed, 01 Nov 2023) EllapsedTime: 27.6 seconds RetCode: 0 Status: OK