Package: pwrEWAS Version: 1.16.0 Command: chmod a+r pwrEWAS -R && F:\biocbuild\bbs-3.18-bioc\R\bin\R.exe CMD build --keep-empty-dirs --no-resave-data pwrEWAS StartedAt: 2024-04-15 20:27:10 -0400 (Mon, 15 Apr 2024) EndedAt: 2024-04-15 20:27:12 -0400 (Mon, 15 Apr 2024) EllapsedTime: 2.1 seconds RetCode: 1 Status: ERROR PackageFile: None PackageFileSize: NA