Package: pwrEWAS Version: 1.15.0 Command: /Library/Frameworks/R.framework/Resources/bin/R CMD check --install=check:pwrEWAS.install-out.txt --library=/Library/Frameworks/R.framework/Resources/library --no-vignettes --timings pwrEWAS_1.15.0.tar.gz StartedAt: 2023-06-19 21:54:04 -0400 (Mon, 19 Jun 2023) EndedAt: 2023-06-19 21:59:10 -0400 (Mon, 19 Jun 2023) EllapsedTime: 306.0 seconds RetCode: 0 Status: OK CheckDir: pwrEWAS.Rcheck Warnings: 0