Package: pvca Version: 1.42.0 Command: /Library/Frameworks/R.framework/Resources/bin/R CMD INSTALL pvca StartedAt: 2024-03-03 15:29:23 -0500 (Sun, 03 Mar 2024) EndedAt: 2024-03-03 15:29:38 -0500 (Sun, 03 Mar 2024) EllapsedTime: 14.8 seconds RetCode: 0 Status: OK