Package: pvca Version: 1.42.0 Command: /Library/Frameworks/R.framework/Resources/bin/R CMD check --install=check:pvca.install-out.txt --library=/Library/Frameworks/R.framework/Resources/library --no-vignettes --timings pvca_1.42.0.tar.gz StartedAt: 2024-03-03 22:42:44 -0500 (Sun, 03 Mar 2024) EndedAt: 2024-03-03 22:44:07 -0500 (Sun, 03 Mar 2024) EllapsedTime: 82.6 seconds RetCode: 0 Status: OK CheckDir: pvca.Rcheck Warnings: 0