Package: pvca Version: 1.42.0 Command: /Library/Frameworks/R.framework/Resources/bin/R CMD build --keep-empty-dirs --no-resave-data pvca StartedAt: 2024-03-03 17:53:31 -0500 (Sun, 03 Mar 2024) EndedAt: 2024-03-03 17:53:57 -0500 (Sun, 03 Mar 2024) EllapsedTime: 26.1 seconds RetCode: 0 Status: OK PackageFile: pvca_1.42.0.tar.gz PackageFileSize: 216.9 KiB