Package: puma Version: 3.44.0 Command: /Library/Frameworks/R.framework/Resources/bin/R CMD INSTALL puma StartedAt: 2024-03-03 15:16:39 -0500 (Sun, 03 Mar 2024) EndedAt: 2024-03-03 15:17:47 -0500 (Sun, 03 Mar 2024) EllapsedTime: 67.3 seconds RetCode: 0 Status: OK