Package: psichomics Version: 1.28.0 Command: /home/biocbuild/R/R-4.3.1/bin/R CMD INSTALL psichomics StartedAt: 2023-11-01 21:03:30 -0000 (Wed, 01 Nov 2023) EndedAt: 2023-11-01 21:05:35 -0000 (Wed, 01 Nov 2023) EllapsedTime: 124.6 seconds RetCode: 0 Status: OK