Package: proteinProfiles Version: 1.42.0 Command: rm -rf proteinProfiles.buildbin-libdir && mkdir proteinProfiles.buildbin-libdir && F:\biocbuild\bbs-3.18-bioc\R\bin\R.exe CMD INSTALL --build --library=proteinProfiles.buildbin-libdir proteinProfiles_1.42.0.tar.gz StartedAt: 2024-04-16 07:28:21 -0400 (Tue, 16 Apr 2024) EndedAt: 2024-04-16 07:28:29 -0400 (Tue, 16 Apr 2024) EllapsedTime: 8.1 seconds RetCode: 0 Status: OK PackageFile: proteinProfiles_1.42.0.zip PackageFileSize: 263.8 KiB