Package: proteinProfiles Version: 1.42.0 Command: /Library/Frameworks/R.framework/Resources/bin/R CMD build --keep-empty-dirs --no-resave-data proteinProfiles StartedAt: 2024-03-03 17:52:51 -0500 (Sun, 03 Mar 2024) EndedAt: 2024-03-03 17:53:05 -0500 (Sun, 03 Mar 2024) EllapsedTime: 14.6 seconds RetCode: 0 Status: OK PackageFile: proteinProfiles_1.42.0.tar.gz PackageFileSize: 383.7 KiB