Package: proteinProfiles Version: 1.42.0 Command: rm -rf proteinProfiles.buildbin-libdir && mkdir proteinProfiles.buildbin-libdir && /Users/biocbuild/BBS/utils/build-universal.sh proteinProfiles_1.42.0.tar.gz /Library/Frameworks/R.framework/Resources/bin/R proteinProfiles.buildbin-libdir StartedAt: 2024-03-04 00:57:15 -0500 (Mon, 04 Mar 2024) EndedAt: 2024-03-04 00:57:21 -0500 (Mon, 04 Mar 2024) EllapsedTime: 5.6 seconds RetCode: 0 Status: OK PackageFile: proteinProfiles_1.42.0.tgz PackageFileSize: 402.3 KiB