Package: proteinProfiles Version: 1.42.0 Maintainer: Julian Gehring MaintainerEmail: jg-bioc at gmx.com git_url: https://git.bioconductor.org/packages/proteinProfiles git_branch: RELEASE_3_18 git_last_commit: 7b9a480 git_last_commit_date: 2023-10-24 09:53:04 -0400 (Tue, 24 Oct 2023)