Package: proteasy Version: 1.4.0 Command: /home/biocbuild/R/R-4.3.1/bin/R CMD check --install=check:proteasy.install-out.txt --library=/home/biocbuild/R/R-4.3.1/site-library --no-vignettes --timings proteasy_1.4.0.tar.gz StartedAt: 2023-11-02 13:17:57 -0000 (Thu, 02 Nov 2023) EndedAt: 2023-11-02 13:18:36 -0000 (Thu, 02 Nov 2023) EllapsedTime: 39.1 seconds RetCode: 1 Status: ERROR CheckDir: proteasy.Rcheck Warnings: NA