Package: projectR Version: 1.18.0 Command: /Library/Frameworks/R.framework/Resources/bin/R CMD build --keep-empty-dirs --no-resave-data projectR StartedAt: 2024-03-03 17:52:31 -0500 (Sun, 03 Mar 2024) EndedAt: 2024-03-03 17:53:09 -0500 (Sun, 03 Mar 2024) EllapsedTime: 37.1 seconds RetCode: 0 Status: OK PackageFile: projectR_1.18.0.tar.gz PackageFileSize: 4.033 MiB