Package: progeny Version: 1.24.0 Maintainer: Aurélien Dugourd MaintainerEmail: aurelien.dugourd at bioquant.uni-heidelberg.de git_url: https://git.bioconductor.org/packages/progeny git_branch: RELEASE_3_18 git_last_commit: 590eaf5 git_last_commit_date: 2023-10-24 11:00:41 -0400 (Tue, 24 Oct 2023)