Package: profileplyr Version: 1.18.0 Command: rm -rf profileplyr.buildbin-libdir && mkdir profileplyr.buildbin-libdir && /Users/biocbuild/BBS/utils/build-universal.sh profileplyr_1.18.0.tar.gz /Library/Frameworks/R.framework/Resources/bin/R profileplyr.buildbin-libdir StartedAt: 2024-03-04 00:56:54 -0500 (Mon, 04 Mar 2024) EndedAt: 2024-03-04 00:58:20 -0500 (Mon, 04 Mar 2024) EllapsedTime: 85.7 seconds RetCode: 0 Status: OK PackageFile: profileplyr_1.18.0.tgz PackageFileSize: 2.543 MiB